BEGIN:VCALENDAR
VERSION:2.0
PRODID:icalendar-ruby
CALSCALE:GREGORIAN
METHOD:PUBLISH
BEGIN:VEVENT
DTSTAMP:20260422T063555Z
UID:5-1374827@echurchtally.com
DTSTART:20260913T150000Z
DTEND:20260913T160000Z
CLASS:PUBLIC
CREATED:20260421T211425
DESCRIPTION:Sunday Worship
LAST-MODIFIED:20260421T211425
LOCATION:
SUMMARY:Sunday Worship
URL;VALUE=URI:https://www.echurchtally.com/events/sunday-worship/2026-09-13
END:VEVENT
END:VCALENDAR
