BEGIN:VCALENDAR
VERSION:2.0
PRODID:icalendar-ruby
CALSCALE:GREGORIAN
METHOD:PUBLISH
BEGIN:VEVENT
DTSTAMP:20260421T114306Z
UID:5-1371901@echurchtally.com
DTSTART:20260705T150000Z
DTEND:20260705T160000Z
CLASS:PUBLIC
CREATED:20260420T205919
DESCRIPTION:Sunday Worship
LAST-MODIFIED:20260420T205919
LOCATION:
SUMMARY:Sunday Worship
URL;VALUE=URI:https://www.echurchtally.com/events/sunday-worship/2026-07-05
END:VEVENT
END:VCALENDAR
