BEGIN:VCALENDAR
VERSION:2.0
PRODID:icalendar-ruby
CALSCALE:GREGORIAN
METHOD:PUBLISH
BEGIN:VEVENT
DTSTAMP:20260422T023824Z
UID:6-1374935@echurchtally.com
DTSTART:20260920T143000Z
DTEND:20260920T163000Z
CLASS:PUBLIC
CREATED:20260421T211425
DESCRIPTION:Experience a meaningful encounter with God at our Sunday servic
 e\, held every week at 10:30 AM. We invite you to join us for an uplifting
  time of worship and fellowship. 
LAST-MODIFIED:20260421T211425
LOCATION:2221 Jackson Bluff Road\, Tallahassee\, FL 32304
SUMMARY:Sunday Service
URL;VALUE=URI:https://www.echurchtally.com/events/sunday-service/2026-09-20
ATTACH;FILENAME=Copy-of-NONE-PRAYER-%281500-x-784-px%29.png;FMTTYPE=image/p
 ng:https://dq5pwpg1q8ru0.cloudfront.net/2025/03/10/02/53/40/d5766c92-98cf-
 44aa-baa0-7d2dc286a361/Copy-of-NONE-PRAYER-%25281500-x-784-px%2529.png
END:VEVENT
END:VCALENDAR
